BEGIN:VCALENDAR
VERSION:2.0
PRODID:-//KH Westpfalz - ECPv6.15.20//NONSGML v1.0//EN
CALSCALE:GREGORIAN
METHOD:PUBLISH
X-ORIGINAL-URL:https://kh-westpfalz.de
X-WR-CALDESC:Veranstaltungen für KH Westpfalz
REFRESH-INTERVAL;VALUE=DURATION:PT1H
X-Robots-Tag:noindex
X-PUBLISHED-TTL:PT1H
BEGIN:VTIMEZONE
TZID:Europe/Berlin
BEGIN:DAYLIGHT
TZOFFSETFROM:+0100
TZOFFSETTO:+0200
TZNAME:CEST
DTSTART:20230326T010000
END:DAYLIGHT
BEGIN:STANDARD
TZOFFSETFROM:+0200
TZOFFSETTO:+0100
TZNAME:CET
DTSTART:20231029T010000
END:STANDARD
BEGIN:DAYLIGHT
TZOFFSETFROM:+0100
TZOFFSETTO:+0200
TZNAME:CEST
DTSTART:20240331T010000
END:DAYLIGHT
BEGIN:STANDARD
TZOFFSETFROM:+0200
TZOFFSETTO:+0100
TZNAME:CET
DTSTART:20241027T010000
END:STANDARD
BEGIN:DAYLIGHT
TZOFFSETFROM:+0100
TZOFFSETTO:+0200
TZNAME:CEST
DTSTART:20250330T010000
END:DAYLIGHT
BEGIN:STANDARD
TZOFFSETFROM:+0200
TZOFFSETTO:+0100
TZNAME:CET
DTSTART:20251026T010000
END:STANDARD
END:VTIMEZONE
BEGIN:VEVENT
DTSTART;TZID=Europe/Berlin:20240831T170000
DTEND;TZID=Europe/Berlin:20240831T220000
DTSTAMP:20260421T135722
CREATED:20240712T121549Z
LAST-MODIFIED:20240712T121549Z
UID:7226-1725123600-1725141600@kh-westpfalz.de
SUMMARY:Sommerfest der Elektro-Innung Kaiserslautern-Donnersberg
DESCRIPTION:Sommerfest
URL:https://kh-westpfalz.de/termine/sommerfest-der-elektro-innung-kaiserslautern-donnersberg-2/
LOCATION:Hotel-Restaurant „Klostermühle“\, Mühlstraße 19\, Münchweiler a. d. Alsenz\, 67728
ORGANIZER;CN="Elektro-Innung Kaiserslautern-Donnersberg":MAILTO:a.meininger@kh-westpfalz.de
END:VEVENT
END:VCALENDAR